BEGIN:VCALENDAR
VERSION:2.0
PRODID:-//An Optimal You - ECPv6.15.11//NONSGML v1.0//EN
CALSCALE:GREGORIAN
METHOD:PUBLISH
X-WR-CALNAME:An Optimal You
X-ORIGINAL-URL:https://www.anoptimalyou.com
X-WR-CALDESC:Events for An Optimal You
REFRESH-INTERVAL;VALUE=DURATION:PT1H
X-Robots-Tag:noindex
X-PUBLISHED-TTL:PT1H
BEGIN:VTIMEZONE
TZID:America/Los_Angeles
BEGIN:DAYLIGHT
TZOFFSETFROM:-0800
TZOFFSETTO:-0700
TZNAME:PDT
DTSTART:20150308T100000
END:DAYLIGHT
BEGIN:STANDARD
TZOFFSETFROM:-0700
TZOFFSETTO:-0800
TZNAME:PST
DTSTART:20151101T090000
END:STANDARD
BEGIN:DAYLIGHT
TZOFFSETFROM:-0800
TZOFFSETTO:-0700
TZNAME:PDT
DTSTART:20160313T100000
END:DAYLIGHT
BEGIN:STANDARD
TZOFFSETFROM:-0700
TZOFFSETTO:-0800
TZNAME:PST
DTSTART:20161106T090000
END:STANDARD
BEGIN:DAYLIGHT
TZOFFSETFROM:-0800
TZOFFSETTO:-0700
TZNAME:PDT
DTSTART:20170312T100000
END:DAYLIGHT
BEGIN:STANDARD
TZOFFSETFROM:-0700
TZOFFSETTO:-0800
TZNAME:PST
DTSTART:20171105T090000
END:STANDARD
END:VTIMEZONE
BEGIN:VEVENT
DTSTART;TZID=America/Los_Angeles:20160310T161500
DTEND;TZID=America/Los_Angeles:20160310T171500
DTSTAMP:20260420T001237
CREATED:20160227T182527Z
LAST-MODIFIED:20160227T182527Z
UID:2774-1457626500-1457630100@www.anoptimalyou.com
SUMMARY:Holistic weight loss cognitive behavioral therapy group meeting
DESCRIPTION:Come and join this group if you would like help in achieving healthy weight loss.\nCost $25\nCost is included if you are a part of a holistic weight loss package.
URL:https://www.anoptimalyou.com/event/holistic-weight-loss-cognitive-behavioral-therapy-group-meeting/
LOCATION:An Optimal You\, 29995 Technology Dr. Suite #201\, Murrieta\, CA\, 92563\, United States
END:VEVENT
END:VCALENDAR