BEGIN:VCALENDAR
VERSION:2.0
PRODID:-//An Optimal You - ECPv6.15.11//NONSGML v1.0//EN
CALSCALE:GREGORIAN
METHOD:PUBLISH
X-WR-CALNAME:An Optimal You
X-ORIGINAL-URL:https://www.anoptimalyou.com
X-WR-CALDESC:Events for An Optimal You
REFRESH-INTERVAL;VALUE=DURATION:PT1H
X-Robots-Tag:noindex
X-PUBLISHED-TTL:PT1H
BEGIN:VTIMEZONE
TZID:America/Los_Angeles
BEGIN:DAYLIGHT
TZOFFSETFROM:-0800
TZOFFSETTO:-0700
TZNAME:PDT
DTSTART:20150308T100000
END:DAYLIGHT
BEGIN:STANDARD
TZOFFSETFROM:-0700
TZOFFSETTO:-0800
TZNAME:PST
DTSTART:20151101T090000
END:STANDARD
BEGIN:DAYLIGHT
TZOFFSETFROM:-0800
TZOFFSETTO:-0700
TZNAME:PDT
DTSTART:20160313T100000
END:DAYLIGHT
BEGIN:STANDARD
TZOFFSETFROM:-0700
TZOFFSETTO:-0800
TZNAME:PST
DTSTART:20161106T090000
END:STANDARD
BEGIN:DAYLIGHT
TZOFFSETFROM:-0800
TZOFFSETTO:-0700
TZNAME:PDT
DTSTART:20170312T100000
END:DAYLIGHT
BEGIN:STANDARD
TZOFFSETFROM:-0700
TZOFFSETTO:-0800
TZNAME:PST
DTSTART:20171105T090000
END:STANDARD
END:VTIMEZONE
BEGIN:VEVENT
DTSTART;TZID=America/Los_Angeles:20160126T163000
DTEND;TZID=America/Los_Angeles:20160126T180000
DTSTAMP:20260420T032558
CREATED:20160109T175655Z
LAST-MODIFIED:20160109T175655Z
UID:2683-1453825800-1453831200@www.anoptimalyou.com
SUMMARY:Holistic Healthy Weight Loss
DESCRIPTION:RSVP to ensure your spot! First 5 people to RSVP for each workshop will get a free vitamin B  injection.\nIf you are like a lot of people you may feel overwhelmed and desire guidance on your weight loss journey. You realize that there is no magic fix and that healthy weight loss takes a multi-faceted approach. A lot of programs help you to lose weight temporarily\, but you  are not becoming healthy in the process\, and your body puts the fat right back on when you are done with the program. With the Optimal Wellness Network’s holistic healthy weight loss program\, we address the mind\, body\, and spirit which sets you on the right path to taking care of your health and weight. The goal of our program is to give you  the support that you need- both emotionally and physically-so that you can achieve a healthy weight. To learn more about our 3 month holistic weight loss program please  join us for a free introductory workshop. If after attending this introductory workshop this program is not for you\, don’t do it. If it does appeal to you then you will have the opportunity to sign up for our 3 month holistic program.  \nPlease RSVP to frontoffice@anoptimalyou.com
URL:https://www.anoptimalyou.com/event/holistic-healthy-weight-loss/
LOCATION:An Optimal You\, 29995 Technology Dr. Suite #201\, Murrieta\, CA\, 92563\, United States
ORGANIZER;CN="Unnamed Organizer":MAILTO:frontoffice@anoptimalyou.com
END:VEVENT
BEGIN:VEVENT
DTSTART;TZID=America/Los_Angeles:20160127T123000
DTEND;TZID=America/Los_Angeles:20160127T133000
DTSTAMP:20260420T032558
CREATED:20160109T175825Z
LAST-MODIFIED:20160109T175825Z
UID:2684-1453897800-1453901400@www.anoptimalyou.com
SUMMARY:Holistic Healthy Weight Loss
DESCRIPTION:RSVP to ensure your spot! First 5 people to RSVP for each workshop will get a free vitamin B  injection.\nIf you are like a lot of people you may feel overwhelmed and desire guidance on your weight loss journey. You realize that there is no magic fix and that healthy weight loss takes a multi-faceted approach. A lot of programs help you to lose weight temporarily\, but you  are not becoming healthy in the process\, and your body puts the fat right back on when you are done with the program. With the Optimal Wellness Network’s holistic healthy weight loss program\, we address the mind\, body\, and spirit which sets you on the right path to taking care of your health and weight. The goal of our program is to give you  the support that you need- both emotionally and physically-so that you can achieve a healthy weight. To learn more about our 3 month holistic weight loss program please  join us for a free introductory workshop. If after attending this introductory workshop this program is not for you\, don’t do it. If it does appeal to you then you will have the opportunity to sign up for our 3 month holistic program.  \nRSVP to frontoffice@anoptimalyou.com
URL:https://www.anoptimalyou.com/event/holistic-healthy-weight-loss-2/
LOCATION:An Optimal You\, 29995 Technology Dr. Suite #201\, Murrieta\, CA\, 92563\, United States
ORGANIZER;CN="Unnamed Organizer":MAILTO:frontoffice@anoptimalyou.com
END:VEVENT
END:VCALENDAR