BEGIN:VCALENDAR
VERSION:2.0
PRODID:-//An Optimal You - ECPv6.15.11//NONSGML v1.0//EN
CALSCALE:GREGORIAN
METHOD:PUBLISH
X-WR-CALNAME:An Optimal You
X-ORIGINAL-URL:https://www.anoptimalyou.com
X-WR-CALDESC:Events for An Optimal You
REFRESH-INTERVAL;VALUE=DURATION:PT1H
X-Robots-Tag:noindex
X-PUBLISHED-TTL:PT1H
BEGIN:VTIMEZONE
TZID:America/Los_Angeles
BEGIN:DAYLIGHT
TZOFFSETFROM:-0800
TZOFFSETTO:-0700
TZNAME:PDT
DTSTART:20160313T100000
END:DAYLIGHT
BEGIN:STANDARD
TZOFFSETFROM:-0700
TZOFFSETTO:-0800
TZNAME:PST
DTSTART:20161106T090000
END:STANDARD
BEGIN:DAYLIGHT
TZOFFSETFROM:-0800
TZOFFSETTO:-0700
TZNAME:PDT
DTSTART:20170312T100000
END:DAYLIGHT
BEGIN:STANDARD
TZOFFSETFROM:-0700
TZOFFSETTO:-0800
TZNAME:PST
DTSTART:20171105T090000
END:STANDARD
BEGIN:DAYLIGHT
TZOFFSETFROM:-0800
TZOFFSETTO:-0700
TZNAME:PDT
DTSTART:20180311T100000
END:DAYLIGHT
BEGIN:STANDARD
TZOFFSETFROM:-0700
TZOFFSETTO:-0800
TZNAME:PST
DTSTART:20181104T090000
END:STANDARD
END:VTIMEZONE
BEGIN:VEVENT
DTSTART;TZID=America/Los_Angeles:20170106T110000
DTEND;TZID=America/Los_Angeles:20170106T120000
DTSTAMP:20260419T083907
CREATED:20170104T222353Z
LAST-MODIFIED:20170104T222353Z
UID:3975-1483700400-1483704000@www.anoptimalyou.com
SUMMARY:Battling Inflammation Naturally
DESCRIPTION:From Back to Foot pain and Headaches to Heartburn\, it is all inflammation.  I want to help show everyone that it is manageable by natural and healthy methods.
URL:https://www.anoptimalyou.com/event/battling-inflammation-naturally/
LOCATION:An Optimal You\, 29995 Technology Dr. Suite #201\, Murrieta\, CA\, 92563\, United States
END:VEVENT
END:VCALENDAR