BEGIN:VCALENDAR
VERSION:2.0
PRODID:-//An Optimal You - ECPv6.15.11//NONSGML v1.0//EN
CALSCALE:GREGORIAN
METHOD:PUBLISH
X-ORIGINAL-URL:https://www.anoptimalyou.com
X-WR-CALDESC:Events for An Optimal You
REFRESH-INTERVAL;VALUE=DURATION:PT1H
X-Robots-Tag:noindex
X-PUBLISHED-TTL:PT1H
BEGIN:VTIMEZONE
TZID:America/Los_Angeles
BEGIN:DAYLIGHT
TZOFFSETFROM:-0800
TZOFFSETTO:-0700
TZNAME:PDT
DTSTART:20150308T100000
END:DAYLIGHT
BEGIN:STANDARD
TZOFFSETFROM:-0700
TZOFFSETTO:-0800
TZNAME:PST
DTSTART:20151101T090000
END:STANDARD
BEGIN:DAYLIGHT
TZOFFSETFROM:-0800
TZOFFSETTO:-0700
TZNAME:PDT
DTSTART:20160313T100000
END:DAYLIGHT
BEGIN:STANDARD
TZOFFSETFROM:-0700
TZOFFSETTO:-0800
TZNAME:PST
DTSTART:20161106T090000
END:STANDARD
BEGIN:DAYLIGHT
TZOFFSETFROM:-0800
TZOFFSETTO:-0700
TZNAME:PDT
DTSTART:20170312T100000
END:DAYLIGHT
BEGIN:STANDARD
TZOFFSETFROM:-0700
TZOFFSETTO:-0800
TZNAME:PST
DTSTART:20171105T090000
END:STANDARD
END:VTIMEZONE
BEGIN:VEVENT
DTSTART;TZID=America/Los_Angeles:20160917T100000
DTEND;TZID=America/Los_Angeles:20160917T150000
DTSTAMP:20260419T154319
CREATED:20160116T202209Z
LAST-MODIFIED:20160116T202209Z
UID:2688-1474106400-1474124400@www.anoptimalyou.com
SUMMARY:Guardians Of Health Expo 2016!
DESCRIPTION:Battle against the evil and debilitating effects of poor health! \nThis event will help equip the residents of Temecula\, Murrieta and surrounding areas how to fight against symptoms such as FATIGUE\, BRAIN FOG\, DIGESTION ISSUES\, WEIGHT CONCERNS AND MORE! \nLearn More Here! \nThese wellness talks are located to the side of the building under a large canopy.  Please rsvp to ensure a seat.\nEach talk will be approximately 30 minutes followed by plenty of time to answer your questions. \nThese talks are free but if you have the means you are invited to donate a few dollars\, or more\, to one of the charities that we are supporting! \nIf you would like to ensure a seat in the main room please call 951-541-3577\nor e mail us at ask(at)anoptimalyou.com \nInnovative wellness talk schedule:\n\n10:00 am\n“Inflammation: the overlooked villain”\npresented by Joseph Montgomery\,  certified integrative nutrition specialist\n10:45am to 11:00am yoga demonstration\n11:00 am\n“Introduction to Holistic Health” presented  by Dr. Laurie Blanscet and the members of the Optimal Wellness Network\n11:45 am Tom Cronin\, Jujitsu demonstration\nNoon\n“The future of heath and understanding how Cannabis can help medically” presented by Alana Sills\, D.D.\,D.M. Alana is an educator with the Society of Cannabis Clinicians.\n12:45 pm to 1:15 pm- Lunch break and music by Virgil Gibson (former lead singer of the Platters) \n1:30 pm\n“Imagine your POSSIBLE”\npresented by Ed Ettinghausen.   World record holder for most 100 mile runs accomplished in a year.\n2:15 pm  R. Belldon Colme\, Nutri-90 founder\,  “The Hunger Trap: The 7 Types of Hunger and How to Control Them”\n2:30pm\n“Determine your risk for disease and cancer without radiation”\npresented by Glee Pozos\, certified thermographer\n\n\nWellness demonstrations – Located inside the building\n\n10:15 am to 10:45 am “Learn how to use mindful self healing techniques ” presented by Pam Winkler\, clinical psychologist and hypnotherapist\n11:45 to 12:30 pm    R. Belldon Colme\, Nutri-90 founder\, “Conquering Obesity Permanently: The Lego Method of Metabolic Optimization”\n 12:45 to 1:15 pm    Billy Stout\, Sol Health Plan a unique and affordable insurance that covers and promotes wellness\n1:30 pm to 2:00 pm    Julee Johanson Ortho-Bionomy:  a key part to resolving pain in your body\n2:15 pm to 2:45 pm “Master mindfulness for ultimate self healing” presented by Pam Winkler\, clinical psychologist and hypnotherapist\n\nThe Guardians of Health Expo is Free however Donations to either Hospice Of the Valley or Waves are encouraged!
URL:https://www.anoptimalyou.com/event/guardians-of-health-expo-2016/
LOCATION:An Optimal You\, 29995 Technology Dr. Suite #201\, Murrieta\, CA\, 92563\, United States
END:VEVENT
END:VCALENDAR